BEGIN:VCALENDAR
VERSION:2.0
PRODID:-//ChamberMaster//Event Calendar 2.0//EN
METHOD:PUBLISH
X-PUBLISHED-TTL:P1H
REFRESH-INTERVAL:P1H
CALSCALE:GREGORIAN
BEGIN:VTIMEZONE
TZID:America/Los_Angeles
BEGIN:DAYLIGHT
RRULE:FREQ=YEARLY;BYMONTH=3;BYDAY=2SU
DTSTART:20070101T000000
TZOFFSETFROM:-0800
TZOFFSETTO:-0700
TZNAME:Pacific Daylight Time
END:DAYLIGHT
BEGIN:STANDARD
RRULE:FREQ=YEARLY;BYMONTH=11;BYDAY=1SU
DTSTART:20070101T000000
TZOFFSETFROM:-0700
TZOFFSETTO:-0800
TZNAME:Pacific Standard Time
END:STANDARD
END:VTIMEZONE
BEGIN:VEVENT
DTSTART;TZID=America/Los_Angeles:20260514T000000
DTEND;TZID=America/Los_Angeles:20260514T000000
X-MICROSOFT-CDO-ALLDAYEVENT:FALSE
SUMMARY:May Networking Breakfast 2026
DESCRIPTION:Guest Speaker: Joseph MarmalejoFounder and President of Marm MediaPresentation Topic Building Your Brand: How to Turn Your Marketing Into a System That Generates Consistent LeadsJoseph Marmolejo is the Founder and President of Marm Media\, a full-service marketing and media agency based in Southern California. He's been in video production\, branding\, and marketing since 2014\, helping businesses grow their visibility\, generate leads\, and build stronger connections with their communities.\nHe's worked with brands across construction\, real estate\, education\, events\, and local business\, focusing on combining strong content with real marketing systems that actually drive results. Joseph also created the "Building Your Brand" platform\, where he shares insights on marketing\, storytelling\, and business growth through podcasting\, radio\, and digital content.\nHis approach is simple. Most businesses don't need more random marketing. They need a system that works consistently.
X-ALT-DESC;FMTTYPE=text/html:<!DOCTYPE html><html><head><title></title></head><body aria-disabled="false"><p><strong fr-original-style="" style="font-weight: 700\;">Guest Speaker</strong>:<em> Joseph Marmalejo</em></p><p><strong fr-original-style="" style="font-weight: 700\;">Founder and President of Marm Media</strong></p><p><strong fr-original-style="" style="font-weight: 700\;">Presentation Topic Building Your Brand</strong>:<em> How to Turn Your Marketing Into a System That Generates Consistent Leads</em></p><p style="color: rgba(0\,0\,0\,var(--O42jJQ\,1))\; caret-color: rgb(0\, 0\, 0)\; --8sD0Kg: none\; font-family: YAFdJpYtCxE_1\, _fb_\, auto\; --cyV3ZQ: 19.6301px\; --gJPlXQ: 1.4\; text-transform: none\; --s8NbEA: p\; line-height: 27px\;"><span style="color: rgba(0\,0\,0\,var(--O42jJQ\,1))\; caret-color: rgb(0\, 0\, 0)\; --Ys-XuQ: none\; font-weight: 400\; font-style: normal\; font-kerning: normal\;">Joseph Marmolejo is the Founder and President of Marm Media\, a full-service marketing and media agency based in Southern California. He&rsquo\;s been in video production\, branding\, and marketing since 2014\, helping businesses grow their visibility\, generate leads\, and build stronger connections with their communities.</span></p><p style="color: rgba(0\,0\,0\,var(--O42jJQ\,1))\; caret-color: rgb(0\, 0\, 0)\; --8sD0Kg: none\; font-family: YAFdJpYtCxE_1\, _fb_\, auto\; --cyV3ZQ: 19.6301px\; --gJPlXQ: 1.4\; text-transform: none\; --s8NbEA: p\; line-height: 27px\;"><br></p><p style="color: rgba(0\,0\,0\,var(--O42jJQ\,1))\; caret-color: rgb(0\, 0\, 0)\; --8sD0Kg: none\; font-family: YAFdJpYtCxE_1\, _fb_\, auto\; --cyV3ZQ: 19.6301px\; --gJPlXQ: 1.4\; text-transform: none\; --s8NbEA: p\; line-height: 27px\;"><span style="color: rgba(0\,0\,0\,var(--O42jJQ\,1))\; caret-color: rgb(0\, 0\, 0)\; --Ys-XuQ: none\; font-weight: 400\; font-style: normal\; font-kerning: normal\;">He&rsquo\;s worked with brands across construction\, real estate\, education\, events\, and local business\, focusing on combining strong content with real marketing systems that actually drive results. Joseph also created the &ldquo\;Building Your Brand&rdquo\; platform\, where he shares insights on marketing\, storytelling\, and business growth through podcasting\, radio\, and digital content.</span></p><p style="color: rgba(0\,0\,0\,var(--O42jJQ\,1))\; caret-color: rgb(0\, 0\, 0)\; --8sD0Kg: none\; font-family: YAFdJpYtCxE_1\, _fb_\, auto\; --cyV3ZQ: 19.6301px\; --gJPlXQ: 1.4\; text-transform: none\; --s8NbEA: p\; line-height: 27px\;"><br></p><p style="color: rgba(0\,0\,0\,var(--O42jJQ\,1))\; caret-color: rgb(0\, 0\, 0)\; --8sD0Kg: none\; font-family: YAFdJpYtCxE_1\, _fb_\, auto\; --cyV3ZQ: 19.6301px\; --gJPlXQ: 1.4\; text-transform: none\; --s8NbEA: p\; line-height: 27px\;"><span style="color: rgba(0\,0\,0\,var(--O42jJQ\,1))\; caret-color: rgb(0\, 0\, 0)\; --Ys-XuQ: none\; font-weight: 400\; font-style: normal\; font-kerning: normal\;">His approach is simple. Most businesses don&rsquo\;t need more random marketing. They need a system that works consistently.</span></p></body></html>
LOCATION:9029 Vernon Avenue Montclair CA 91763
UID:e.2663.1449319
SEQUENCE:3
DTSTAMP:20260423T155015Z
URL:https://members.montclairchamber.com/eventcalendar/Details/may-networking-breakfast-2026-1716753?sourceTypeId=Hub
END:VEVENT
END:VCALENDAR
