BEGIN:VCALENDAR
VERSION:2.0
PRODID:-//ChamberMaster//Event Calendar 2.0//EN
METHOD:PUBLISH
X-PUBLISHED-TTL:P1H
REFRESH-INTERVAL:P1H
CALSCALE:GREGORIAN
BEGIN:VTIMEZONE
TZID:America/Los_Angeles
BEGIN:DAYLIGHT
RRULE:FREQ=YEARLY;BYMONTH=3;BYDAY=2SU
DTSTART:20070101T000000
TZOFFSETFROM:-0800
TZOFFSETTO:-0700
TZNAME:Pacific Daylight Time
END:DAYLIGHT
BEGIN:STANDARD
RRULE:FREQ=YEARLY;BYMONTH=11;BYDAY=1SU
DTSTART:20070101T000000
TZOFFSETFROM:-0700
TZOFFSETTO:-0800
TZNAME:Pacific Standard Time
END:STANDARD
END:VTIMEZONE
BEGIN:VEVENT
DTSTART;VALUE=DATE:20250122
DTEND;VALUE=DATE:20250123
TRANSP:TRANSPARENT
X-MICROSOFT-CDO-ALLDAYEVENT:TRUE
SUMMARY:Main Event Ribbon Cutting
DESCRIPTION:We are excited to announce that Main Event will be having a Ribbon cutting.
X-ALT-DESC;FMTTYPE=text/html:We are excited to announce that Main Event will be having a Ribbon cutting.
LOCATION:5201 N Montclair Plaza Ln Montclair CA 91763
UID:e.2663.1098698
SEQUENCE:3
DTSTAMP:20260422T163833Z
URL:https://members.montclairchamber.com/eventcalendar/Details/main-event-ribbon-cutting-1270448?sourceTypeId=Hub
END:VEVENT
END:VCALENDAR
