BEGIN:VCALENDAR
VERSION:2.0
PRODID:-//ChamberMaster//Event Calendar 2.0//EN
METHOD:PUBLISH
X-PUBLISHED-TTL:P1H
REFRESH-INTERVAL:P1H
CALSCALE:GREGORIAN
BEGIN:VTIMEZONE
TZID:America/Los_Angeles
BEGIN:DAYLIGHT
RRULE:FREQ=YEARLY;BYMONTH=3;BYDAY=2SU
DTSTART:20070101T000000
TZOFFSETFROM:-0800
TZOFFSETTO:-0700
TZNAME:Pacific Daylight Time
END:DAYLIGHT
BEGIN:STANDARD
RRULE:FREQ=YEARLY;BYMONTH=11;BYDAY=1SU
DTSTART:20070101T000000
TZOFFSETFROM:-0700
TZOFFSETTO:-0800
TZNAME:Pacific Standard Time
END:STANDARD
END:VTIMEZONE
BEGIN:VEVENT
DTSTART;VALUE=DATE:20260528
DTEND;VALUE=DATE:20260529
TRANSP:TRANSPARENT
X-MICROSOFT-CDO-ALLDAYEVENT:TRUE
SUMMARY:2026 Montclair Police Department Recognition
DESCRIPTION:The luncheon will be held on May 28th from 12:00 PM to 2:00 PM at the Montclair Community Center Gymnasium\, located at 5111 Benito St.\, Montclair\, CA 91763. This meaningful gathering brings together community members and leaders to recognize the outstanding efforts of those who serve and protect our city.
X-ALT-DESC;FMTTYPE=text/html:<!DOCTYPE html><html><head><title></title></head><body aria-disabled="false"><p>The luncheon will be held on May 28th from 12:00 PM to 2:00 PM at the Montclair Community Center Gymnasium\, located at 5111 Benito St.\, Montclair\, CA 91763. This meaningful gathering brings together community members and leaders to recognize the outstanding efforts of those who serve and protect our city.</p></body></html>
LOCATION:5111 Benito Street Montclair 91763
UID:e.2663.1442872
SEQUENCE:3
DTSTAMP:20260423T154359Z
URL:https://members.montclairchamber.com/eventcalendar/Details/2026-montclair-police-department-recognition-1708993?sourceTypeId=Hub
END:VEVENT
END:VCALENDAR
